BEGIN:VCALENDAR
VERSION:2.0
PRODID:-//Squarespace Inc/Squarespace 6//v6//EN
BEGIN:VEVENT
UID:5ddc934c4d193c02420a7d81@squarespace.com
DTSTAMP:20191126T025230Z
DTSTART:20200426T220000Z
DTEND:20200703T053000Z
SUMMARY:Term 2\, 2020
END:VEVENT
END:VCALENDAR
