BEGIN:VCALENDAR
VERSION:2.0
PRODID:-//Squarespace Inc/Squarespace 6//v6//EN
BEGIN:VEVENT
UID:5e4b3a03190cbb27f145e2a3@squarespace.com
DTSTAMP:20200218T011410Z
DTSTART:20200320T063000Z
DTEND:20200320T083000Z
SUMMARY:Welcome Disco!
END:VEVENT
END:VCALENDAR
