BEGIN:VCALENDAR
VERSION:2.0
PRODID:-//Squarespace Inc/Squarespace 6//v6//EN
BEGIN:VEVENT
UID:5ddc91a6c833493f056175cd@squarespace.com
DTSTAMP:20191127T214123Z
DTSTART:20191212T003000Z
DTEND:20191218T020000Z
SUMMARY:End of Year Celebrations
END:VEVENT
END:VCALENDAR
