BEGIN:VCALENDAR
VERSION:2.0
PRODID:-//Squarespace Inc/Squarespace 6//v6//EN
BEGIN:VEVENT
UID:5beb82444ae237ac1f809b85@squarespace.com
DTSTAMP:20181114T020322Z
DTSTART:20191013T210000Z
DTEND:20191218T043000Z
SUMMARY:Term 4\, 2019
END:VEVENT
END:VCALENDAR
